BEGIN:VCALENDAR
VERSION:2.0
PRODID:-//YouthJobsCanada - ECPv6.15.18//NONSGML v1.0//EN
CALSCALE:GREGORIAN
METHOD:PUBLISH
X-WR-CALNAME:YouthJobsCanada
X-ORIGINAL-URL:https://youthjobscanada.ca
X-WR-CALDESC:Events for YouthJobsCanada
REFRESH-INTERVAL;VALUE=DURATION:PT1H
X-Robots-Tag:noindex
X-PUBLISHED-TTL:PT1H
BEGIN:VTIMEZONE
TZID:America/Vancouver
BEGIN:DAYLIGHT
TZOFFSETFROM:-0800
TZOFFSETTO:-0700
TZNAME:PDT
DTSTART:20250309T100000
END:DAYLIGHT
BEGIN:STANDARD
TZOFFSETFROM:-0700
TZOFFSETTO:-0800
TZNAME:PST
DTSTART:20251102T090000
END:STANDARD
BEGIN:DAYLIGHT
TZOFFSETFROM:-0800
TZOFFSETTO:-0700
TZNAME:PDT
DTSTART:20260308T100000
END:DAYLIGHT
BEGIN:STANDARD
TZOFFSETFROM:-0700
TZOFFSETTO:-0800
TZNAME:PST
DTSTART:20261101T090000
END:STANDARD
BEGIN:DAYLIGHT
TZOFFSETFROM:-0800
TZOFFSETTO:-0700
TZNAME:PDT
DTSTART:20270314T100000
END:DAYLIGHT
BEGIN:STANDARD
TZOFFSETFROM:-0700
TZOFFSETTO:-0800
TZNAME:PST
DTSTART:20271107T090000
END:STANDARD
END:VTIMEZONE
BEGIN:VTIMEZONE
TZID:America/Toronto
BEGIN:DAYLIGHT
TZOFFSETFROM:-0500
TZOFFSETTO:-0400
TZNAME:EDT
DTSTART:20250309T070000
END:DAYLIGHT
BEGIN:STANDARD
TZOFFSETFROM:-0400
TZOFFSETTO:-0500
TZNAME:EST
DTSTART:20251102T060000
END:STANDARD
BEGIN:DAYLIGHT
TZOFFSETFROM:-0500
TZOFFSETTO:-0400
TZNAME:EDT
DTSTART:20260308T070000
END:DAYLIGHT
BEGIN:STANDARD
TZOFFSETFROM:-0400
TZOFFSETTO:-0500
TZNAME:EST
DTSTART:20261101T060000
END:STANDARD
BEGIN:DAYLIGHT
TZOFFSETFROM:-0500
TZOFFSETTO:-0400
TZNAME:EDT
DTSTART:20270314T070000
END:DAYLIGHT
BEGIN:STANDARD
TZOFFSETFROM:-0400
TZOFFSETTO:-0500
TZNAME:EST
DTSTART:20271107T060000
END:STANDARD
END:VTIMEZONE
BEGIN:VEVENT
DTSTART;TZID=America/Vancouver:20260416T100000
DTEND;TZID=America/Vancouver:20260416T140000
DTSTAMP:20260421T012630
CREATED:20230803T165702Z
LAST-MODIFIED:20260302T173509Z
UID:325989-1776333600-1776348000@youthjobscanada.ca
SUMMARY:Vancouver Career Fair & Training Expo
DESCRIPTION:This event is the perfect opportunity for employers\, training colleges and prospective job seekers to meet face-to-face and find the right fit. \nINDUSTRIES MAY INCLUDE:\n\n\n\n\n\n\n\nTransportation & Logistics\nCustomer Service\nCall Centres\nOffice Administration\nTravel & Tourism\n\n\n\n\n\n\n\n\nHealthcare\nGeneral Labour\nAutomotive\nEducation\nMarketing\n\n\n\n\n\n\n\n\nSkilled Trades\nConstruction\nRetail\nSales\nLaw Enforcement\n\n\n\n\n\nVisit the website for more information
URL:https://youthjobscanada.ca/event/vancouver-job-fair/
LOCATION:Pan Pacific Vancouver\, 999 Canada Place #300\, Vancouver\, British Columbia\, V6C 3B5\, Canada
END:VEVENT
BEGIN:VEVENT
DTSTART;TZID=America/Toronto:20260414T100000
DTEND;TZID=America/Toronto:20260414T150000
DTSTAMP:20260421T012630
CREATED:20230808T181042Z
LAST-MODIFIED:20260202T181537Z
UID:326106-1776160800-1776178800@youthjobscanada.ca
SUMMARY:Toronto Career Fair & Training Expo
DESCRIPTION:This event is the perfect opportunity for employers\, training colleges and prospective job seekers to meet face-to-face and find the right fit. \nINDUSTRIES MAY INCLUDE:\n\n\n\n\n\n\n\nTransportation & Logistics\nCustomer Service\nCall Centres\nOffice Administration\nTravel & Tourism\n\n\n\n\n\n\n\n\nHealthcare\nGeneral Labour\nAutomotive\nEducation\nMarketing\n\n\n\n\n\n\n\n\nSkilled Trades\nConstruction\nRetail\nSales\nLaw Enforcement\n\nVisit the website for more information
URL:https://youthjobscanada.ca/event/toronto-career-fair-training-expo/
LOCATION:Metro Toronto Convention Centre\, 255 Front Street West\, Toronto\, Ontario\, M5V 2W6\, Canada
END:VEVENT
BEGIN:VEVENT
DTSTART;TZID=America/Toronto:20260408T110000
DTEND;TZID=America/Toronto:20260408T150000
DTSTAMP:20260421T012630
CREATED:20230726T224734Z
LAST-MODIFIED:20260405T163230Z
UID:325741-1775646000-1775660400@youthjobscanada.ca
SUMMARY:Canada Job Expo
DESCRIPTION:Canada Job Expo has established itself as the premier and most successful career event. With 6 events a year and close to a decade in existence\, Canada Job Expo has helped thousands of job-seekers land their dream jobs and hundreds of organizations find their ideal employees.\nCanada Job Expo is the Greater Toronto Area’s #1 Job and Career Expo. Whether you are a motivated candidate looking to advance your career or whether you are a successful and growing organization looking to hire key employees – Canada Job Expo is most ideal platform.\nVisit the website for more information
URL:https://youthjobscanada.ca/event/canada-job-expo/
LOCATION:North York Memorial Hall\, 5110 Yonge Street\, Toronto\, Ontario\, M2N 5W4\, Canada
END:VEVENT
END:VCALENDAR